BEGIN:VCALENDAR
VERSION:2.0
PRODID:-//ChamberMaster//Event Calendar 2.0//EN
METHOD:PUBLISH
X-PUBLISHED-TTL:P3D
REFRESH-INTERVAL:P3D
CALSCALE:GREGORIAN
BEGIN:VEVENT
DTSTART:20260329T220000Z
DTEND:20260329T233000Z
X-MICROSOFT-CDO-ALLDAYEVENT:FALSE
SUMMARY:Community Easter Concert
DESCRIPTION:All are invited to join in an evening celebrating Jesus Christ through music. Performances by adult and youth choirs\, instrumentalists and vocalists. Admission\, parking and refreshments are free. We look forward to celebrating with you.
X-ALT-DESC;FMTTYPE=text/html:All are invited to join in an evening celebrating Jesus Christ through music. Performances by adult and youth choirs\, instrumentalists and vocalists. Admission\, parking and refreshments are free. We look forward to celebrating with you.
LOCATION:The Church of Jesus Christ of Latter-day Saints 1170 Kohler Mill Rd New Oxford\, PA 17350
UID:e.1500.5888
SEQUENCE:3
DTSTAMP:20260425T211002Z
URL:http://hanoverdev.chambermaster.com/events/details/community-easter-concert-5888
END:VEVENT

END:VCALENDAR
