BEGIN:VCALENDAR
VERSION:2.0
PRODID:-//ChamberMaster//Event Calendar 2.0//EN
METHOD:PUBLISH
X-PUBLISHED-TTL:P3D
REFRESH-INTERVAL:P3D
CALSCALE:GREGORIAN
BEGIN:VEVENT
DTSTART:20260325T220000Z
DTEND:20260326T000000Z
X-MICROSOFT-CDO-ALLDAYEVENT:FALSE
SUMMARY:Her Next Chapter
DESCRIPTION:Her Next Chapter   First Event Announcement!\n\n\n\nWe're so excited to officially announce that Her Next Chapter's 1st event will be held on Wednesday\, March 25th\, from 6:00PM-8:00PM\n\n\n\n\n\nLocation: 5000 Marketplace Way\, Enola\, PA 17025\n\n\n\nThis first gathering will be all about networking\, connecting\, and building community ?? You'll also have the opportunity to help choose the book we'll be reading for our April event!\n\n\n\n(April's event date will be announced soon   stay tuned!)\n\n\n\nEvent registration is through the link below   be sure to secure your spot!\n\n\n\nhttps://docs.google.com/forms/d/e/1FAIpQLSfNCuv8mc4ZniYSIhuEVUx4cdYsitFc8cp8JO80uXfCDWw71A/viewform?usp=header\n\n\n\nBe sure to say hi to our amazing Founders\, Devon DiBiase\, and our Founder/Social Media Manager\, Cheyenne Baker\, when you arrive! We can't wait to see you there and start this new chapter together.
X-ALT-DESC;FMTTYPE=text/html:Her Next Chapter &ndash\; First Event Announcement!<br />\n<br />\nWe&rsquo\;re so excited to officially announce that Her Next Chapter&rsquo\;s 1st event will be held on Wednesday\, March 25th\, from 6:00PM-8:00PM<br />\n<br />\n<br />\nLocation: 5000 Marketplace Way\, Enola\, PA 17025<br />\n<br />\nThis first gathering will be all about networking\, connecting\, and building community ?? You&rsquo\;ll also have the opportunity to help choose the book we&rsquo\;ll be reading for our April event!<br />\n<br />\n(April&rsquo\;s event date will be announced soon &mdash\; stay tuned!)<br />\n<br />\nEvent registration is through the link below &mdash\; be sure to secure your spot!<br />\n<br />\nhttps://docs.google.com/forms/d/e/1FAIpQLSfNCuv8mc4ZniYSIhuEVUx4cdYsitFc8cp8JO80uXfCDWw71A/viewform?usp=header<br />\n<br />\nBe sure to say hi to our amazing Founders\, Devon DiBiase\, and our Founder/Social Media Manager\, Cheyenne Baker\, when you arrive! We can&rsquo\;t wait to see you there and start this new chapter together.
LOCATION:Location: 5000 Marketplace Way\, Enola\, PA 17025
UID:e.1500.5891
SEQUENCE:3
DTSTAMP:20260426T021209Z
URL:http://hanoverdev.chambermaster.com/events/details/her-next-chapter-5891
END:VEVENT

END:VCALENDAR
