BEGIN:VCALENDAR
VERSION:2.0
PRODID:-//ChamberMaster//Event Calendar 2.0//EN
METHOD:PUBLISH
X-PUBLISHED-TTL:P3D
REFRESH-INTERVAL:P3D
CALSCALE:GREGORIAN
BEGIN:VEVENT
DTSTART:20251203T130000Z
DTEND:20251203T141500Z
X-MICROSOFT-CDO-ALLDAYEVENT:FALSE
SUMMARY:Peer Power Hanover
DESCRIPTION:Join the York County Nonprofit Collaborative for Peer Power Hanover! Start your morning with coffee\, pastries\, and powerful conversation. Connect with fellow nonprofit leaders\, share ideas\, and dive into the topics that matter most to YOU. Let's learn from one another\, spark new ideas\, and strengthen our community - together. Have you recently signed up for a GrantStation login? Stay after our Peer Power event for a GrantStation Study Hall. This isn't a tutorial - simply a time and space to set up your account with other users\, and swap tips and encouragement as you go. No registration needed. Just bring your laptop.
X-ALT-DESC;FMTTYPE=text/html:Join the York County Nonprofit Collaborative for Peer Power Hanover! Start your morning with coffee\, pastries\, and powerful conversation. Connect with fellow nonprofit leaders\, share ideas\, and dive into the topics that matter most to YOU. Let&#39\;s learn from one another\, spark new ideas\, and strengthen our community - together. Have you recently signed up for a GrantStation login? Stay after our Peer Power event for a GrantStation Study Hall. This isn&#39\;t a tutorial - simply a time and space to set up your account with other users\, and swap tips and encouragement as you go. No registration needed. Just bring your laptop.
LOCATION:YWCA Hanover 23 W Chestnut St. Hanover\, PA 17331
UID:e.1500.5800
SEQUENCE:3
DTSTAMP:20260423T194223Z
URL:http://hanoverdev.chambermaster.com/events/details/peer-power-hanover-5800
END:VEVENT

END:VCALENDAR
